BEGIN:VCALENDAR
VERSION:2.0
PRODID:-//Miriam Subirana - ECPv6.15.20//NONSGML v1.0//EN
CALSCALE:GREGORIAN
METHOD:PUBLISH
X-WR-CALNAME:Miriam Subirana
X-ORIGINAL-URL:https://www.miriamsubirana.com
X-WR-CALDESC:Eventos para Miriam Subirana
REFRESH-INTERVAL;VALUE=DURATION:PT1H
X-Robots-Tag:noindex
X-PUBLISHED-TTL:PT1H
BEGIN:VTIMEZONE
TZID:Europe/Madrid
BEGIN:DAYLIGHT
TZOFFSETFROM:+0100
TZOFFSETTO:+0200
TZNAME:CEST
DTSTART:20250330T010000
END:DAYLIGHT
BEGIN:STANDARD
TZOFFSETFROM:+0200
TZOFFSETTO:+0100
TZNAME:CET
DTSTART:20251026T010000
END:STANDARD
BEGIN:DAYLIGHT
TZOFFSETFROM:+0100
TZOFFSETTO:+0200
TZNAME:CEST
DTSTART:20260329T010000
END:DAYLIGHT
BEGIN:STANDARD
TZOFFSETFROM:+0200
TZOFFSETTO:+0100
TZNAME:CET
DTSTART:20261025T010000
END:STANDARD
BEGIN:DAYLIGHT
TZOFFSETFROM:+0100
TZOFFSETTO:+0200
TZNAME:CEST
DTSTART:20270328T010000
END:DAYLIGHT
BEGIN:STANDARD
TZOFFSETFROM:+0200
TZOFFSETTO:+0100
TZNAME:CET
DTSTART:20271031T010000
END:STANDARD
END:VTIMEZONE
BEGIN:VEVENT
DTSTART;TZID=Europe/Madrid:20260214T100000
DTEND;TZID=Europe/Madrid:20260215T150000
DTSTAMP:20260424T111721
CREATED:20251105T224344Z
LAST-MODIFIED:20251229T102302Z
UID:4940-1771063200-1771167600@www.miriamsubirana.com
SUMMARY:El paisaje interior\, las imágenes internas nos configuran. Retiro.
DESCRIPTION:El paisaje interior\, un viaje de seis retiros y talleres\, cada uno con temario diferente\, para redescubrir el poder invisible que moldea tu vida. Ser conscientes de nuestro paisaje interior nos permite cuidar las imágenes que lo conforman para vivir en plenitud y armonía. En este retiro\, desde el silencio sentido\, la palabra auténtica\, la filosofía viva\, el diario creativo\, exploraremos los siguientes temas: \nLas imágenes internas nos moldean y nos configuran. Descubre cómo las imágenes invisibles moldean tu vida. Aprende a liberar las que te limitan y a crear símbolos que te inspiren\, abran y liberen. Aquello que imaginas puede transformarte. \n\nLas imágenes debilitantes o de encierro\, que impiden el impulso vital.\nEl proceso de transformación para liberar las imágenes limitantes.\nLas imágenes sanadoras y de unión que nos abren a la creatividad y a la vida.\nLa voluntad de crear conscientemente imágenes inspiradoras.\nLa capacidad de acoger la sombra para lograr la liberación.\nMetáforas ancestrales para atravesar las tinieblas.\n\nEste retiro utilizará como base los contenidos de mi libro: El paisaje interior\, imágenes transformadoras. En este retiro profundizaremos en los capítulos 2\, 3 y 4\, de las páginas 33 a la 95. \nEstos retiros te ofrecen: \n\nun bálsamo para profundizar en cómo generar tu paisaje interior para vivir en plenitud y para dejar huella transformadora y positiva en el mundo. \nuna experiencia íntegra de las bases filosóficas\, psicológicas\, artísticas y espirituales junto a \nherramientas prácticas para ser creador/a de tu paisaje interior y fortalecer tu presencia transformadora en tu entorno.\n\nCada retiro de fin de semana tendrá seis módulos de hora y media. Cada módulo consistirá en meditación\, presentación del tema\, práctica creativa y diálogo. Incluiremos entre módulos la práctica del Chi-kung\, baño y caminata por la naturaleza. Las sesiones serán en sábado\, dos módulos por la mañana y dos por la tarde de 10:00h a 13:15h\, 16:30 a 19:45h y dos módulos el domingo de 10:00h a 13.15h. Al final de cada retiro el participante tendrá mayor claridad y soberanía sobre su paisaje interior\, herramientas para manejar las sombras\, los estratos oscuros\, las dudas y culpas\, las imaginaciones y películas internas\, la vitalidad y las revelaciones. Aprenderá a ver y a comprender sus imágenes desde diferentes ángulos. \nObtén una experiencia profunda de las que dejan huella. Decídete\, inscríbete y obtén descuentos si participas en más de un retiro y/o taller. \nLas prácticas creativas tendrán continuidad entre retiros\, como quereres para incorporar en nuestra vida diaria. \nLos retiros se realizarán en Casa Vora’l Mar\, Cala Montgó (Girona) \nEl entorno es ideal\, con vistas al mar\, acceso directo a la playa\, rodeada de pinos\, junto al parque natural del Montgrí. \nDESCÁRGATE EL PROGRAMA AQUÍ \nAccede aquí a la hoja de inscripción con todos los detalles\, precios\, descuentos\, fechas\, temas. Reserva tu plaza hoy y regálate un retiro para reconectar con tu interior. Las plazas son limitadas. \nEl precio de cada retiro es de 120 euros. Si se inscribe a más de uno a la vez\, obtendrá un 7% de descuento. Si se inscribe a los seis de una vez\, el descuento es de 10%. \nEl alojamiento en pensión completa vegetariana (incluye dos almuerzos -sábado y domingo-\, cena y desayuno). Dado que en la casa hay diferentes tipos de habitación\, por favor entra en el formulario para obtener los precios detallados según lo que más te acomode. Verás que tienes la opción de ir el viernes con un coste adicional de 77€ por la habitación\, la cena del viernes y el desayuno sábado. \nSi te interesan todos los temas y no puedes participar en todos los retiros\, ofrezco una opción reducida en formato talleres\, en el espacio YesOuiSi de Barcelona. Un espacio lleno de luz\, color y amplitud. Sábados de 10h a 18h. \nOpción resumida: Los talleres en sábado\, en el espacio YesOuiSi en Barcelona\, tendrán entre 2 y 3 módulos (en vez de 6 del fin de semana). \n\nDescubrir las imágenes liberadoras. Liberar imágenes internas limitantes. 31 enero\nEl impulso creador y el lenguaje simbólico. La meditación como via para explorar el preconsciente. 7 marzo\nArmonizar el diálogo interior de voces. Atención consciente. 11 abril\nIndagación apreciativa. Des-cubrir y diseñar una vida con propósito. 16 mayo\nLa sabiduría filosófica en metáforas vivas. El río\, la marioneta y el rizoma. 6 junio\nLa contemplación como acto de transformación. Crear un santuario interior habitable y fértil. 18 julio\n\n\n\nIncluirán prácticas creativas\, meditación\, diálogo auténtico\, diario creativo y chi-kung. Suponen una inversión de 75 € + 12€ de la comida. Descuento si se inscribe en dos o más talleres al mismo tiempo\, del 7 %. \n\n\nAccede aquí a la hoja de inscripción con todos los detalles tanto de retiros como talleres\, precios\, descuentos\, fechas\, temas. RESERVA TU PLAZA HOY AQUÍ accede a toda la información necesaria y regálate un retiro para reconectar con tu interior. Las plazas son limitadas.
URL:https://www.miriamsubirana.com/event/las-imagenes-internas-nos-configuran/
LOCATION:Casa Cala Montgó\, Costa Brava
CATEGORIES:Agenda
ATTACH;FMTTYPE=image/png:https://www.miriamsubirana.com/wp-content/uploads/2025/11/14-y-15-feb-retiro-contenido-complet.png
END:VEVENT
END:VCALENDAR