BEGIN:VCALENDAR
VERSION:2.0
PRODID:-//Miriam Subirana - ECPv6.15.20//NONSGML v1.0//EN
CALSCALE:GREGORIAN
METHOD:PUBLISH
X-WR-CALNAME:Miriam Subirana
X-ORIGINAL-URL:https://www.miriamsubirana.com
X-WR-CALDESC:Eventos para Miriam Subirana
REFRESH-INTERVAL;VALUE=DURATION:PT1H
X-Robots-Tag:noindex
X-PUBLISHED-TTL:PT1H
BEGIN:VTIMEZONE
TZID:Europe/Madrid
BEGIN:DAYLIGHT
TZOFFSETFROM:+0100
TZOFFSETTO:+0200
TZNAME:CEST
DTSTART:20250330T010000
END:DAYLIGHT
BEGIN:STANDARD
TZOFFSETFROM:+0200
TZOFFSETTO:+0100
TZNAME:CET
DTSTART:20251026T010000
END:STANDARD
BEGIN:DAYLIGHT
TZOFFSETFROM:+0100
TZOFFSETTO:+0200
TZNAME:CEST
DTSTART:20260329T010000
END:DAYLIGHT
BEGIN:STANDARD
TZOFFSETFROM:+0200
TZOFFSETTO:+0100
TZNAME:CET
DTSTART:20261025T010000
END:STANDARD
BEGIN:DAYLIGHT
TZOFFSETFROM:+0100
TZOFFSETTO:+0200
TZNAME:CEST
DTSTART:20270328T010000
END:DAYLIGHT
BEGIN:STANDARD
TZOFFSETFROM:+0200
TZOFFSETTO:+0100
TZNAME:CET
DTSTART:20271031T010000
END:STANDARD
END:VTIMEZONE
BEGIN:VEVENT
DTSTART;TZID=Europe/Madrid:20260423T120000
DTEND;TZID=Europe/Madrid:20260423T130000
DTSTAMP:20260423T122855
CREATED:20260420T123013Z
LAST-MODIFIED:20260420T123308Z
UID:5229-1776945600-1776949200@www.miriamsubirana.com
SUMMARY:Signo llibres per Sant Jordi - Firma de libros en Sant Jordi
DESCRIPTION:¡Un año más llega SANT JORDI!\, y como siempre me encantará disfrutar de una jornada tan especial con vosotros. Por eso mismo os invitamos a visitarme entre 12 y 13h en las paradas 15 y 16 en calle Provenza\, 274\, esquina Rambla Cataluña. \n23 d’abril 2026 entre 12h. a 13h Provença 274\, estands 15 i 16 Editorial Kairós \n 
URL:https://www.miriamsubirana.com/event/signo-llibres-per-sant-jordi-firma-de-libros-en-sant-jordi-2/
CATEGORIES:Agenda
ATTACH;FMTTYPE=image/jpeg:https://www.miriamsubirana.com/wp-content/uploads/2026/04/Sant-Jordi-signo-al-stand-Siglantana-23-dabril-19h-1.jpg
END:VEVENT
END:VCALENDAR